BEGIN:VCALENDAR
VERSION:2.0
PRODID:https://www.kufer.de/kuferweb / DE
METHOD:PUBLISH
CALSCALE:GREGORIAN
X-WR-TIMEZONE:Europe/Berlin
BEGIN:VTIMEZONE
TZID:Europe/Berlin
X-LIC-LOCATION:Europe/Berlin
BEGIN:DAYLIGHT
TZOFFSETFROM:+0100
TZOFFSETTO:+0200
TZNAME:CEST
DTSTART:19700329T020000
RRULE:FREQ=YEARLY;INTERVAL=1;BYDAY=-1SU;BYMONTH=3
END:DAYLIGHT
BEGIN:STANDARD
TZOFFSETFROM:+0200
TZOFFSETTO:+0100
TZNAME:CET
DTSTART:19701025T030000
RRULE:FREQ=YEARLY;INTERVAL=1;BYDAY=-1SU;BYMONTH=10
END:STANDARD
END:VTIMEZONE
BEGIN:VEVENT
DTSTAMP:20260425T210245
DTSTART;TZID=Europe/Berlin:20260617T191500
DTEND;TZID=Europe/Berlin:20260617T213000
UID:26BW100038-20260617T191500@KKKKLAGENFURT KATHOLISCHES BILDUNGSWERK
SUMMARY:Die Jüdische Glaubensgemeinschaft in Kärnten und Österreich Vortrag und Diskussion aus der Reihe "Religion, Kirche und Gesellschaft"  (26BW100038) 
LOCATION:Schulzentrum Hermagor - Aula, 10.-Oktober-Straße 9, 9620 Hermagor
END:VEVENT
END:VCALENDAR