BEGIN:VCALENDAR
VERSION:2.0
PRODID:https://www.kufer.de/kuferweb / DE
METHOD:PUBLISH
CALSCALE:GREGORIAN
X-WR-TIMEZONE:Europe/Berlin
BEGIN:VTIMEZONE
TZID:Europe/Berlin
X-LIC-LOCATION:Europe/Berlin
BEGIN:DAYLIGHT
TZOFFSETFROM:+0100
TZOFFSETTO:+0200
TZNAME:CEST
DTSTART:19700329T020000
RRULE:FREQ=YEARLY;INTERVAL=1;BYDAY=-1SU;BYMONTH=3
END:DAYLIGHT
BEGIN:STANDARD
TZOFFSETFROM:+0200
TZOFFSETTO:+0100
TZNAME:CET
DTSTART:19701025T030000
RRULE:FREQ=YEARLY;INTERVAL=1;BYDAY=-1SU;BYMONTH=10
END:STANDARD
END:VTIMEZONE
BEGIN:VEVENT
DTSTAMP:20260425T224852
DTSTART;TZID=Europe/Berlin:20260513T143000
DTEND;TZID=Europe/Berlin:20260513T160000
UID:26BW850095-20260513T143000@KKKKLAGENFURT KATHOLISCHES BILDUNGSWERK
SUMMARY:Mitten im Leben aktiv und selbstbestimmt älter werden (26BW850095) 
LOCATION:Gemeindesaal St. Martin am Techelsberg,  St. Martin 4, 9212 Techelsberg am Wörther See
END:VEVENT
END:VCALENDAR